BEGIN:VCALENDAR
VERSION:2.0
PRODID:-//NCSS - ECPv6.5.1//NONSGML v1.0//EN
CALSCALE:GREGORIAN
METHOD:PUBLISH
X-WR-CALNAME:NCSS
X-ORIGINAL-URL:https://stage.ncss.gov.sa
X-WR-CALDESC:Events for NCSS
REFRESH-INTERVAL;VALUE=DURATION:PT1H
X-Robots-Tag:noindex
X-PUBLISHED-TTL:PT1H
BEGIN:VTIMEZONE
TZID:UTC
BEGIN:STANDARD
TZOFFSETFROM:+0000
TZOFFSETTO:+0000
TZNAME:UTC
DTSTART:20220101T000000
END:STANDARD
END:VTIMEZONE
BEGIN:VEVENT
DTSTART;VALUE=DATE:20230323
DTEND;VALUE=DATE:20230324
DTSTAMP:20260420T043113
CREATED:20230306T030817Z
LAST-MODIFIED:20230306T031420Z
UID:5622-1679529600-1679615999@stage.ncss.gov.sa
SUMMARY:يوم المسؤولية الاجتماعية بالمملكة
DESCRIPTION:يعكس أهمية المسؤولية الاجتماعية ودورها الكبير في دعم تحقيق التنمية وازدهار المجتمع واستدامة موارده للأجيال القادمة ومساعدة مختلف فئات المجتمع وشرائحه تحقيقاً لرؤية المملكة 2030. يسلط الضوء من خلالها على برامج المسؤولية الاجتماعية لإبراز مستوى رقي شركات ومؤسسات الوطن.
URL:https://stage.ncss.gov.sa/event/%d9%8a%d9%88%d9%85-%d8%a7%d9%84%d9%85%d8%b3%d8%a4%d9%88%d9%84%d9%8a%d8%a9-%d8%a7%d9%84%d8%a7%d8%ac%d8%aa%d9%85%d8%a7%d8%b9%d9%8a%d8%a9-%d8%a8%d8%a7%d9%84%d9%85%d9%85%d9%84%d9%83%d8%a9/
CATEGORIES:الأيام العربية
END:VEVENT
BEGIN:VEVENT
DTSTART;VALUE=DATE:20221222
DTEND;VALUE=DATE:20221223
DTSTAMP:20260420T043113
CREATED:20220216T113917Z
LAST-MODIFIED:20220216T113929Z
UID:2337-1671667200-1671753599@stage.ncss.gov.sa
SUMMARY:اليوم العربي لليتيم
DESCRIPTION:عنيت المملكة العربية السعودية منذ نشأتها بأمر الأيتام ونهضت برعايتهم أيما نهوض، وامتدت هذه العناية وتأكدت دعائمها وأُسندت مسؤولية متابعة أوضاع الأيتام وتلمس حاجاتهم والأخذ بأيديهم لما يكفل لهم كرامتهم ويحقق اعتمادهم على أنفسهم. \n  \nوتعد الإدارة العامة لرعاية الأيتام بوكالة الوزارة للرعاية الاجتماعية والأسرة هي المسؤولة والمشرفة على كافة شؤون الأيتام ورعايتهم، وتهدف إلى العمل من أجل وضع السياسات العامة لرعاية الأطفال الأيتام ومن في حكمهم والفئات الاجتماعية ذات الظروف الخاصة من مجهولي الأبوين وشمولهم بالرعاية والتربية والإصلاح وفقاً لمبادئ الشريعة الإسلامية السمحة بأساليب علمية حديثة من خلال الدور والمؤسسات الإيوائية، أو متابعة رعايتهم داخل الأسر الكافلة أو الصديقة. \n  \n 
URL:https://stage.ncss.gov.sa/event/%d8%a7%d9%84%d9%8a%d9%88%d9%85-%d8%a7%d9%84%d8%b9%d8%b1%d8%a8%d9%8a-%d9%84%d9%84%d9%8a%d8%aa%d9%8a%d9%85/
CATEGORIES:الأيام العربية
END:VEVENT
BEGIN:VEVENT
DTSTART;VALUE=DATE:20221209
DTEND;VALUE=DATE:20221210
DTSTAMP:20260420T043113
CREATED:20220216T112233Z
LAST-MODIFIED:20220216T115520Z
UID:2325-1670544000-1670630399@stage.ncss.gov.sa
SUMMARY:يوم الأسرة العربية
DESCRIPTION:امتداداً لحرص واهتمام المملكة بتركيبة الأسرة السعودية وأفرادها لكونها النواة الأولى والأساسية للمجتمع ، ولما لها دور في بناء مجتمع سليم وقادر على مواجهة التحديات والتحولات، أنشئت مجلس شؤون الأسرة  ودعمت الجمعيات الخيرية الداعمة للأسر في المملكة . \n  \nوجاء إنشاء هذا المجلس للرقي بالأسرة وتعزيز مكانتها ودورها في البناء والتنمية ، والعمل على توفير سُبل الحياة الكريمة، و تطوير وتحسين مستوى الخدمات التي تُسهم في استقرار الأسرة اجتماعياً واقتصادياً لتتلاءم مع رؤية المملكة 2030 التي جعلت الإنسان محور التنمية . \n  \n 
URL:https://stage.ncss.gov.sa/event/%d9%8a%d9%88%d9%85-%d8%a7%d9%84%d8%a3%d8%b3%d8%b1%d8%a9-%d8%a7%d9%84%d8%b9%d8%b1%d8%a8%d9%8a%d8%a9/
CATEGORIES:الأيام العربية
END:VEVENT
BEGIN:VEVENT
DTSTART;TZID=UTC:20221001T080000
DTEND;TZID=UTC:20221001T170000
DTSTAMP:20260420T043113
CREATED:20220216T100147Z
LAST-MODIFIED:20220216T100147Z
UID:2302-1664611200-1664643600@stage.ncss.gov.sa
SUMMARY:اليوم العربي للطفل
DESCRIPTION:يحتفي العالم العربي باليوم العربي للطفل والذي يصادف ذكرى استشهاد الطفل الفلسطيني محمد الدرة في أول أكتوبر من كل عام. \nتقدم المملكة جهود في مجال حقوق الطفل، بما في ذلك الحماية من الإيذاء، وضمان توفير وسائل رعاية صحية فعالة بما في ذلك التطعيمات، والصحة المدرسية، ومرافق سرطان الأطفال، وضمان سلامة الأطفال، والتنمية ورعاية الطفولة المبكرة، والتعليم، والحماية من محتوى الإنترنت، وفي الوقت نفسه تمكين الأطفال في العالم السيبراني. هذا القسم أيضًا تجد معلومات حول حماية الأطفال من تشغيل الأحداث ورعاية الأيتام والمبادرات والخدمات المختلفة التي تقدمها القطاعات الحكومية المختلفة. \n  \n 
URL:https://stage.ncss.gov.sa/event/%d8%a7%d9%84%d9%8a%d9%88%d9%85-%d8%a7%d9%84%d8%b9%d8%b1%d8%a8%d9%8a-%d9%84%d9%84%d8%b7%d9%81%d9%84/
CATEGORIES:الأيام العربية
END:VEVENT
BEGIN:VEVENT
DTSTART;VALUE=DATE:20220315
DTEND;VALUE=DATE:20220316
DTSTAMP:20260420T043113
CREATED:20220216T061929Z
LAST-MODIFIED:20220216T085114Z
UID:2252-1647302400-1647388799@stage.ncss.gov.sa
SUMMARY:اليوم العربي للأسر المنتجة
DESCRIPTION:يهدف هذا اليوم إلى تشجيع الأسر المنتجة  ودعم مشاريعهم بإتاحة الفرصة لتقديم منتجاتهم. \nوتقدم المملكة العربية السعودية عدة برامج وتسهيلات للأسر من أهمها برامج التمويل التنموي للأسر المنتجة مقدمة من بنك التنمية الاجتماعي والذي يهدف لتعزيز الكفاءات ورفع الانتاجية وزيادة مساهمة الأسر بالاقتصاد.
URL:https://stage.ncss.gov.sa/event/%d8%a7%d9%84%d9%8a%d9%88%d9%85-%d8%a7%d9%84%d8%b9%d8%b1%d8%a8%d9%8a-%d9%84%d9%84%d8%a3%d8%b3%d8%b1-%d8%a7%d9%84%d9%85%d9%86%d8%aa%d8%ac%d8%a9/
CATEGORIES:الأيام العربية
END:VEVENT
END:VCALENDAR