BEGIN:VCALENDAR
VERSION:2.0
PRODID:-//NCSS - ECPv6.5.1//NONSGML v1.0//EN
CALSCALE:GREGORIAN
METHOD:PUBLISH
X-WR-CALNAME:NCSS
X-ORIGINAL-URL:https://stage.ncss.gov.sa
X-WR-CALDESC:Events for NCSS
REFRESH-INTERVAL;VALUE=DURATION:PT1H
X-Robots-Tag:noindex
X-PUBLISHED-TTL:PT1H
BEGIN:VTIMEZONE
TZID:UTC
BEGIN:STANDARD
TZOFFSETFROM:+0000
TZOFFSETTO:+0000
TZNAME:UTC
DTSTART:20220101T000000
END:STANDARD
END:VTIMEZONE
BEGIN:VEVENT
DTSTART;TZID=UTC:20220321T080000
DTEND;TZID=UTC:20220327T170000
DTSTAMP:20260420T043048
CREATED:20220216T062608Z
LAST-MODIFIED:20220216T085707Z
UID:2256-1647849600-1648400400@stage.ncss.gov.sa
SUMMARY:أسبوع التضامن مع الشعوب المكافحة لمناهضة العنصرية والتمييز العنصري
DESCRIPTION:في سنة 1966، دعت الجمعية العامة المجتمع الدولي إلى مضاعفة جهوده من أجل القضاء على جميع أشكال التمييز العنصري،  وتعد مكافحة التمييز العنصري مسألة ذات أولوية بالنسبة للمجتمع الدولي وتشكل صلب أعمال مفوضية الأمم المتحدة السامية لحقوق الإنسان. \n  \nإن من  أبرز الأنظمة والتشريعات والتدابير التي تطبقها المملكة لمناهضة التمييز العنصري وتعزز ثقافة التسامح واحترام حقوق الإنسان والمحافظة على اللحمة الوطنية حيث أوجبت الشريعة الإسلامية العدل والمساواة في الحقوق والواجبات، وحرَّمت التمييز العنصري بأشكاله كافة، ونصت المادة (26) من النظام الأساسي للحكم على أن “تحمي الدولة حقوق الإنسان وفق الشريعة الإسلامية”، كما نصت المادة (8) على أن “يقوم الحكم في المملكة العربية السعودية على أساس العدل والشورى والمساواة وفق الشريعة الإسلامية”.
URL:https://stage.ncss.gov.sa/event/%d8%a3%d8%b3%d8%a8%d9%88%d8%b9-%d8%a7%d9%84%d8%aa%d8%b6%d8%a7%d9%85%d9%86-%d9%85%d8%b9-%d8%a7%d9%84%d8%b4%d8%b9%d9%88%d8%a8-%d8%a7%d9%84%d9%85%d9%83%d8%a7%d9%81%d8%ad%d8%a9-%d9%84%d9%85%d9%86%d8%a7/
CATEGORIES:الأيام العالمية
END:VEVENT
BEGIN:VEVENT
DTSTART;VALUE=DATE:20220321
DTEND;VALUE=DATE:20220322
DTSTAMP:20260420T043048
CREATED:20220216T062829Z
LAST-MODIFIED:20220216T085359Z
UID:2258-1647820800-1647907199@stage.ncss.gov.sa
SUMMARY:اليوم العالمي لمتلازمة داون
DESCRIPTION:اعتمدت الجمعية العامة للأمم المتحدة في كانون الأول/ديسمبر 2011 ( قرارها 149/66)، الذي ينص على إعلان يوم 21 آذار/مارس يومًا عالميًا لمتلازمة داون يُحتفل به سنويًا اعتباراً من عام 2012. \n  \nودعت الجميعة العامة جميع الدول الأعضاء ومؤسسات منظومة الأمم المتحدة المعنية والمنظمات الدولية الأخرى والمجتمع المدني، بما في ذلك المنظمات غير الحكومية والقطاع الخاص، إلى الاحتفال باليوم العالمي لمتلازمة داون بطريقة مناسبة لتوعية الجمهور بمتلازمة داون. \n  \nوتصيب متلازمة داون واحدًا من كل 800 طفل على الرغم من أن أكثر من نصف النساء الحوامل المصابات بمتلازمة داون النوع الصبغي (21) لا تستمر في الحمل. \n  \nأهداف اليوم العالمي: \n\nالتوعية بمتلازمة داون وكيفية حدوثه.\nالتوعية بدور الأشخاص المصابين بمتلازمةداون في المجتمعات.\nتشجيعا لأشخاص المصابين بمتلازمة داون على الدراسة أو العمل.\n\n 
URL:https://stage.ncss.gov.sa/event/%d8%a7%d9%84%d9%8a%d9%88%d9%85-%d8%a7%d9%84%d8%b9%d8%a7%d9%84%d9%85%d9%8a-%d9%84%d9%85%d8%aa%d9%84%d8%a7%d8%b2%d9%85%d8%a9-%d8%af%d8%a7%d9%88%d9%86/
CATEGORIES:الأيام العالمية
END:VEVENT
BEGIN:VEVENT
DTSTART;VALUE=DATE:20220321
DTEND;VALUE=DATE:20220322
DTSTAMP:20260420T043048
CREATED:20220216T062136Z
LAST-MODIFIED:20220216T085534Z
UID:2254-1647820800-1647907199@stage.ncss.gov.sa
SUMMARY:اليوم الدولي للقضاء على التمييز العنصري
DESCRIPTION:دعت الجمعية العامة للأمم المتّحدة، المجتمع الدولي في يوم ٢١ مارس  إلى مضاعفة الجهود والقضاء على جميع أشكال التمييز العنصري، ومواجهة التفاقم المقلق لكراهية الأجانب والعنصرية والتعصّب، وتعزيز ثقافة عالمية من التسامح والمساواة ومكافحة التمييز. \n  \nقامت المملكة العربية السعودية بوضع أنظمة تحظر التمييز العنصري مستمدة من القران والكريم والسنة النبوية على أساس العدل والشورى والمساواة، وتضمّن المرسوم الملكي رقم (م/12) و تاريخ 1418/4/16ه  الموافق (1997/8/19م) الموافقة على انضمام المملكة إلى الاتفاقية الدولية للقضاء على جميع أشكال التمييز العنصري ، وتنفيذ أحكامها بما لا يتعارض مع أحكام الشريعة الإسلامية، وهذا تأكيد لمبدأ دستور  يتمثل في أن الشريعة الإسلامية أوجبت العدل والمساواة وحرمت التمييز والظلم.
URL:https://stage.ncss.gov.sa/event/%d8%a7%d9%84%d9%8a%d9%88%d9%85-%d8%a7%d9%84%d8%af%d9%88%d9%84%d9%8a-%d9%84%d9%84%d9%82%d8%b6%d8%a7%d8%a1-%d8%b9%d9%84%d9%89-%d8%a7%d9%84%d8%aa%d9%85%d9%8a%d9%8a%d8%b2-%d8%a7%d9%84%d8%b9%d9%86%d8%b5/
CATEGORIES:الأيام العالمية
END:VEVENT
BEGIN:VEVENT
DTSTART;VALUE=DATE:20220204
DTEND;VALUE=DATE:20220205
DTSTAMP:20260420T043048
CREATED:20220131T082538Z
LAST-MODIFIED:20220131T082923Z
UID:1552-1643932800-1644019199@stage.ncss.gov.sa
SUMMARY:اليوم العالمي للتوعية بمرض السرطان
DESCRIPTION:يتحد العالم بأجمعه في الرابع من فبراير في التوعية بمرض السرطان، ويسعى لرفع الوعي لدى الأفراد، والحكومات في جميع دول العالم بشأن مرض السرطان ومسبباته وأهمية الكشف المبكر عنه،  بالإضافة إلى تصحيح المفاهيم الخاطئة، والخرافات الشائعة حول المرض. \n  \nأهداف اليوم العالمي: \n\nخفض الوفيات المبكرة الناجمة عن الأمراض غير المعدية بنسبة 25 % بحلول عام 2025م.\nتثقيف المجتمعات وتوعيتها بأمراض السرطان، وطرق الوقاية منها.\nتشجيع الكشف المبكر، وتلقي اللقاحات الوقائية، والتوعية بأهميتها.\nالتأكيد على أن الحلول ممكنة ومتوفرة، وبإمكاننا كأفراد، أو مؤسسات وهيئات حكومية وغير حكومية، تقديم وسائل الدعم والتوعية والوقاية من السرطان.
URL:https://stage.ncss.gov.sa/event/%d8%a7%d9%84%d9%8a%d9%88%d9%85-%d8%a7%d9%84%d8%b9%d8%a7%d9%84%d9%85%d9%8a-%d9%84%d9%84%d8%aa%d9%88%d8%b9%d9%8a%d8%a9-%d8%a8%d9%85%d8%b1%d8%b6-%d8%a7%d9%84%d8%b3%d8%b1%d8%b7%d8%a7%d9%86/
CATEGORIES:الأيام العالمية
END:VEVENT
BEGIN:VEVENT
DTSTART;VALUE=DATE:20220201
DTEND;VALUE=DATE:20220202
DTSTAMP:20260420T043048
CREATED:20220131T082415Z
LAST-MODIFIED:20220131T083015Z
UID:1550-1643673600-1643759999@stage.ncss.gov.sa
SUMMARY:يوم المرأة العربي
DESCRIPTION:انطلاقاً من إعلان القاهرة الصادر عن مؤتمر قمة المرأة العربية الأول المنعقد في نوفمبر(تشرين ثاني)2000 م، وبمشاركة تسع عشرة دولة عربية، وذلك إدراكاً للمكانة التي تتمتع بها المرأة صانعة الأجيال ومربيتها، وللدور الهام الذي تلعبه في إطار الأسرة باعتبارها الخلية الأساسية للمجتمع العربي. ورغبة في تعزيز التعاون فيما بين تلك الدول في مجال تطوير وضع المرأة العربية والارتقاء به.
URL:https://stage.ncss.gov.sa/event/%d9%8a%d9%88%d9%85-%d8%a7%d9%84%d9%85%d8%b1%d8%a3%d8%a9-%d8%a7%d9%84%d8%b9%d8%b1%d8%a8%d9%8a/
CATEGORIES:الأيام العالمية
END:VEVENT
BEGIN:VEVENT
DTSTART;VALUE=DATE:20220131
DTEND;VALUE=DATE:20220201
DTSTAMP:20260420T043048
CREATED:20220131T082302Z
LAST-MODIFIED:20220131T083134Z
UID:1548-1643587200-1643673599@stage.ncss.gov.sa
SUMMARY:اليوم الدولي لأطفال الشوارع
DESCRIPTION:في عام 2012م قامت مفوضية الأمم المتحدة لحقوق الإنسان بالشراكة مع عدة شركات برفع الوعي على الصعيد الدولي بحالة الأطفال الذين يعيشون ويعملون في الشوارع. حيث يعقد مجلس حقوق الإنسان  في  31  يناير من كل عام لتعزيز حماية حقوق الأطفال الذين يعملون أو يعيشون في الشوارع ، والنقاش حول  الأسباب الجذرية والعوامل التي تدفع الأطفال للعيش في ظل هذه الظروف .
URL:https://stage.ncss.gov.sa/event/%d8%a7%d9%84%d9%8a%d9%88%d9%85-%d8%a7%d9%84%d8%af%d9%88%d9%84%d9%8a-%d9%84%d8%a3%d8%b7%d9%81%d8%a7%d9%84-%d8%a7%d9%84%d8%b4%d9%88%d8%a7%d8%b1%d8%b9/
CATEGORIES:الأيام العالمية
END:VEVENT
END:VCALENDAR