BEGIN:VCALENDAR
VERSION:2.0
PRODID:-//NCSS - ECPv6.5.1//NONSGML v1.0//EN
CALSCALE:GREGORIAN
METHOD:PUBLISH
X-WR-CALNAME:NCSS
X-ORIGINAL-URL:https://stage.ncss.gov.sa
X-WR-CALDESC:Events for NCSS
REFRESH-INTERVAL;VALUE=DURATION:PT1H
X-Robots-Tag:noindex
X-PUBLISHED-TTL:PT1H
BEGIN:VTIMEZONE
TZID:UTC
BEGIN:STANDARD
TZOFFSETFROM:+0000
TZOFFSETTO:+0000
TZNAME:UTC
DTSTART:20230101T000000
END:STANDARD
END:VTIMEZONE
BEGIN:VEVENT
DTSTART;VALUE=DATE:20230308
DTEND;VALUE=DATE:20230309
DTSTAMP:20260424T173826
CREATED:20220131T083500Z
LAST-MODIFIED:20230308T025627Z
UID:1557-1678233600-1678319999@stage.ncss.gov.sa
SUMMARY:اليوم الدولي للمرأة
DESCRIPTION:وقّعت الأمم  المتحدة ميثاق  في 1945 — أول اتفاقية دولية تؤكد مبدأ المساواة بين الرجل والمرأة، ومنذ ذلك اليوم  قامت الأمم المتحدة بتحديد  اليوم الدولي للمرأة في ٨ مارس وهو للإحتفال بأعمال النساء وشجاعتهم وثباتهم في أداء أدوار استثنائية في تاريخ بلدانهم ومجتمعاتهم. \nوقامت المملكة العربية السعودية ببذل الجهود لتحقيق المساواة التكاملية بين الرجال والنساء في المجالات المتنوعة، وتعزيز حقوق المرأة، وبرامج الدعم والرعاية الموجهة لها، وبالتالي تحسين بيئة عملها في جميع القطاعات، وقرارات العدالة التي تعزز حقوق المرأة، وتمكين المرأة في التعليم والتدريب، وصحة المرأة، والدعم الاجتماعي، والبرنامج الوطني لسلامة الأسرة، وتمكين المرأة في العدالة والأعمال والسياسة.
URL:https://stage.ncss.gov.sa/event/%d8%a7%d9%84%d9%8a%d9%88%d9%85-%d8%a7%d9%84%d8%af%d9%88%d9%84%d9%8a-%d9%84%d9%84%d9%85%d8%b1%d8%a3%d8%a9/
CATEGORIES:الأيام العالمية
END:VEVENT
BEGIN:VEVENT
DTSTART;VALUE=DATE:20240908
DTEND;VALUE=DATE:20240909
DTSTAMP:20260424T173826
CREATED:20240918T062006Z
LAST-MODIFIED:20240918T062006Z
UID:8029-1725753600-1725839999@stage.ncss.gov.sa
SUMMARY:اليوم العالمي للغة الإشارة
DESCRIPTION:
URL:https://stage.ncss.gov.sa/event/%d8%a7%d9%84%d9%8a%d9%88%d9%85-%d8%a7%d9%84%d8%b9%d8%a7%d9%84%d9%85%d9%8a-%d9%84%d9%84%d8%ba%d8%a9-%d8%a7%d9%84%d8%a5%d8%b4%d8%a7%d8%b1%d8%a9/
CATEGORIES:الأيام العالمية
END:VEVENT
BEGIN:VEVENT
DTSTART;VALUE=DATE:20241001
DTEND;VALUE=DATE:20241002
DTSTAMP:20260424T173826
CREATED:20240918T062330Z
LAST-MODIFIED:20240918T062330Z
UID:8037-1727740800-1727827199@stage.ncss.gov.sa
SUMMARY:اليوم العالمي للمسنين
DESCRIPTION:
URL:https://stage.ncss.gov.sa/event/%d8%a7%d9%84%d9%8a%d9%88%d9%85-%d8%a7%d9%84%d8%b9%d8%a7%d9%84%d9%85%d9%8a-%d9%84%d9%84%d9%85%d8%b3%d9%86%d9%8a%d9%86/
CATEGORIES:الأيام العالمية
END:VEVENT
BEGIN:VEVENT
DTSTART;VALUE=DATE:20241016
DTEND;VALUE=DATE:20241017
DTSTAMP:20260424T173826
CREATED:20240918T062431Z
LAST-MODIFIED:20240918T062431Z
UID:8039-1729036800-1729123199@stage.ncss.gov.sa
SUMMARY:اليوم العالمي للمدير
DESCRIPTION:
URL:https://stage.ncss.gov.sa/event/%d8%a7%d9%84%d9%8a%d9%88%d9%85-%d8%a7%d9%84%d8%b9%d8%a7%d9%84%d9%85%d9%8a-%d9%84%d9%84%d9%85%d8%af%d9%8a%d8%b1/
CATEGORIES:الأيام العالمية
END:VEVENT
BEGIN:VEVENT
DTSTART;VALUE=DATE:20241119
DTEND;VALUE=DATE:20241120
DTSTAMP:20260424T173826
CREATED:20240918T063036Z
LAST-MODIFIED:20240918T063036Z
UID:8041-1731974400-1732060799@stage.ncss.gov.sa
SUMMARY:اليوم العالمي للرجل
DESCRIPTION:
URL:https://stage.ncss.gov.sa/event/%d8%a7%d9%84%d9%8a%d9%88%d9%85-%d8%a7%d9%84%d8%b9%d8%a7%d9%84%d9%85%d9%8a-%d9%84%d9%84%d8%b1%d8%ac%d9%84/
CATEGORIES:الأيام العالمية
END:VEVENT
END:VCALENDAR