BEGIN:VCALENDAR
VERSION:2.0
PRODID:-//NCSS - ECPv6.5.1//NONSGML v1.0//EN
CALSCALE:GREGORIAN
METHOD:PUBLISH
X-ORIGINAL-URL:https://stage.ncss.gov.sa
X-WR-CALDESC:Events for NCSS
REFRESH-INTERVAL;VALUE=DURATION:PT1H
X-Robots-Tag:noindex
X-PUBLISHED-TTL:PT1H
BEGIN:VTIMEZONE
TZID:UTC
BEGIN:STANDARD
TZOFFSETFROM:+0000
TZOFFSETTO:+0000
TZNAME:UTC
DTSTART:20230101T000000
END:STANDARD
END:VTIMEZONE
BEGIN:VEVENT
DTSTART;VALUE=DATE:20230308
DTEND;VALUE=DATE:20230309
DTSTAMP:20260423T011223
CREATED:20220131T083500Z
LAST-MODIFIED:20230308T025627Z
UID:1557-1678233600-1678319999@stage.ncss.gov.sa
SUMMARY:اليوم الدولي للمرأة
DESCRIPTION:وقّعت الأمم  المتحدة ميثاق  في 1945 — أول اتفاقية دولية تؤكد مبدأ المساواة بين الرجل والمرأة، ومنذ ذلك اليوم  قامت الأمم المتحدة بتحديد  اليوم الدولي للمرأة في ٨ مارس وهو للإحتفال بأعمال النساء وشجاعتهم وثباتهم في أداء أدوار استثنائية في تاريخ بلدانهم ومجتمعاتهم. \nوقامت المملكة العربية السعودية ببذل الجهود لتحقيق المساواة التكاملية بين الرجال والنساء في المجالات المتنوعة، وتعزيز حقوق المرأة، وبرامج الدعم والرعاية الموجهة لها، وبالتالي تحسين بيئة عملها في جميع القطاعات، وقرارات العدالة التي تعزز حقوق المرأة، وتمكين المرأة في التعليم والتدريب، وصحة المرأة، والدعم الاجتماعي، والبرنامج الوطني لسلامة الأسرة، وتمكين المرأة في العدالة والأعمال والسياسة.
URL:https://stage.ncss.gov.sa/event/%d8%a7%d9%84%d9%8a%d9%88%d9%85-%d8%a7%d9%84%d8%af%d9%88%d9%84%d9%8a-%d9%84%d9%84%d9%85%d8%b1%d8%a3%d8%a9/
CATEGORIES:الأيام العالمية
END:VEVENT
END:VCALENDAR