BEGIN:VCALENDAR
VERSION:2.0
PRODID:-//NCSS - ECPv6.5.1//NONSGML v1.0//EN
CALSCALE:GREGORIAN
METHOD:PUBLISH
X-ORIGINAL-URL:https://stage.ncss.gov.sa
X-WR-CALDESC:Events for NCSS
REFRESH-INTERVAL;VALUE=DURATION:PT1H
X-Robots-Tag:noindex
X-PUBLISHED-TTL:PT1H
BEGIN:VTIMEZONE
TZID:UTC
BEGIN:STANDARD
TZOFFSETFROM:+0000
TZOFFSETTO:+0000
TZNAME:UTC
DTSTART:20220101T000000
END:STANDARD
END:VTIMEZONE
BEGIN:VEVENT
DTSTART;VALUE=DATE:20221220
DTEND;VALUE=DATE:20221221
DTSTAMP:20260423T114527
CREATED:20220216T113639Z
LAST-MODIFIED:20220216T113639Z
UID:2335-1671494400-1671580799@stage.ncss.gov.sa
SUMMARY:اليوم الدولي للتضامن الإنساني
DESCRIPTION:حددت الجمعية العامة للأمم المتحدة، في قرارها المؤرخ في 17 مارس 2006، أن التضامن أحد القيم الأساسية والعالمية التي ينبغي أن تقوم عليها العلاقات بين الشعوب في القرن الحادي والعشرين، وتقرر أن 20 ديسمبر من كل عام، يومًا دوليًا للتضامن الإنساني، \n  \nويعتبر اليوم العالمي للتضامن الإنساني يومًا لتذكير الحكومات بضرورة احترام التزاماتها في الاتفاقيات الدولية ورفع مستوى الوعي العام بأهميته وتشجيع النقاش بشأن سبل تعزيزه لتحقيق الأهداف الإنمائية للألفية، وتشجيع مبادرات جديدة للقضاء على الفقر. \n 
URL:https://stage.ncss.gov.sa/event/%d8%a7%d9%84%d9%8a%d9%88%d9%85-%d8%a7%d9%84%d8%af%d9%88%d9%84%d9%8a-%d9%84%d9%84%d8%aa%d8%b6%d8%a7%d9%85%d9%86-%d8%a7%d9%84%d8%a5%d9%86%d8%b3%d8%a7%d9%86%d9%8a/
CATEGORIES:الأيام العالمية
END:VEVENT
END:VCALENDAR