BEGIN:VCALENDAR
VERSION:2.0
PRODID:-//NCSS - ECPv6.5.1//NONSGML v1.0//EN
CALSCALE:GREGORIAN
METHOD:PUBLISH
X-ORIGINAL-URL:https://stage.ncss.gov.sa
X-WR-CALDESC:Events for NCSS
REFRESH-INTERVAL;VALUE=DURATION:PT1H
X-Robots-Tag:noindex
X-PUBLISHED-TTL:PT1H
BEGIN:VTIMEZONE
TZID:UTC
BEGIN:STANDARD
TZOFFSETFROM:+0000
TZOFFSETTO:+0000
TZNAME:UTC
DTSTART:20220101T000000
END:STANDARD
END:VTIMEZONE
BEGIN:VEVENT
DTSTART;VALUE=DATE:20221205
DTEND;VALUE=DATE:20221206
DTSTAMP:20260423T151345
CREATED:20220216T112103Z
LAST-MODIFIED:20220216T115425Z
UID:2323-1670198400-1670284799@stage.ncss.gov.sa
SUMMARY:اليوم الدولي للمتطوعين من أجل التنمية الاقتصادية والاجتماعية
DESCRIPTION:أقرت الجمعية العامة للأمم المتحدة يوم التطوع الدولي ليكون في 5 كانون الأول/ديسمبر من كل عام. \nوينظر إليه على انه فرصة فريدة للمتطوعين والمنظمات للاحتفال بجهودهم، ومشاركة قيمهم، وتعزيز عملهم فيما بين مجتمعاتهم المحلية، والمنظمات غير الحكومية، ووكالات الأمم المتحدة، والسلطات الحكومية، والقطاع الخاص. \nوإلى جانب تعبئة آلاف المتطوعين كل عام، يسهم برنامج متطوعي الأمم المتحدة في تحقيق السلام والتنمية عن طريق الدعوة إلى الاعتراف بالمتطوعين والعمل مع الشركاء لإدماج العمل التطوعي في البرمجة الإنمائية. \n  \n 
URL:https://stage.ncss.gov.sa/event/%d8%a7%d9%84%d9%8a%d9%88%d9%85-%d8%a7%d9%84%d8%af%d9%88%d9%84%d9%8a-%d9%84%d9%84%d9%85%d8%aa%d8%b7%d9%88%d8%b9%d9%8a%d9%86-%d9%85%d9%86-%d8%a3%d8%ac%d9%84-%d8%a7%d9%84%d8%aa%d9%86%d9%85%d9%8a%d8%a9/
CATEGORIES:الأيام العالمية
END:VEVENT
END:VCALENDAR