BEGIN:VCALENDAR
VERSION:2.0
PRODID:-//NCSS - ECPv6.5.1//NONSGML v1.0//EN
CALSCALE:GREGORIAN
METHOD:PUBLISH
X-WR-CALNAME:NCSS
X-ORIGINAL-URL:https://stage.ncss.gov.sa
X-WR-CALDESC:Events for NCSS
REFRESH-INTERVAL;VALUE=DURATION:PT1H
X-Robots-Tag:noindex
X-PUBLISHED-TTL:PT1H
BEGIN:VTIMEZONE
TZID:UTC
BEGIN:STANDARD
TZOFFSETFROM:+0000
TZOFFSETTO:+0000
TZNAME:UTC
DTSTART:20220101T000000
END:STANDARD
END:VTIMEZONE
BEGIN:VEVENT
DTSTART;VALUE=DATE:20221011
DTEND;VALUE=DATE:20221012
DTSTAMP:20260424T070903
CREATED:20220216T100726Z
LAST-MODIFIED:20220216T114809Z
UID:2306-1665446400-1665532799@stage.ncss.gov.sa
SUMMARY:اليوم العالمي للطفولة
DESCRIPTION:تم تحديد اليوم العالمي للطفل لأول مرة عام 1954م، ويتم الاحتفال به يوم 20 نوفمبر من كل عام؛ لتعزيز التعاون الدولي والتوعية بين الأطفال في جميع أنحاء العالم، وتحسين رفاهية الأطفال. \nويعد يوم 20 نوفمبر تاريخًا مهمًا؛ حيث تبنت الجمعية العمومية للأمم المتحدة إعلان حقوق الطفل عام 1959م، ووُقعت وثيقة حقوق الطفل عام 1989م. \n  \nقامت المملكة  بجهود كبيرة  لتقديم الرعاية الكاملة للطفل، وتمكينه من حقوقه، وتعزيز قدراته ومهاراته وفق رؤية المملكة 2030، وتوفير وسائل رعاية صحية فعالة بما في ذلك التطعيمات، والصحة المدرسية، والمراكز الصحية المتخصصة بأمراض الأطفال، وسن القوانين الصارمة لضمان سلامة الأطفال، والتنمية ورعاية الطفولة المبكرة، والتعليم، والحماية من محتوى الإنترنت. \n  \n 
URL:https://stage.ncss.gov.sa/event/%d8%a7%d9%84%d9%8a%d9%88%d9%85-%d8%a7%d9%84%d8%b9%d8%a7%d9%84%d9%85%d9%8a-%d9%84%d9%84%d8%b7%d9%81%d9%88%d9%84%d8%a9/
CATEGORIES:الأيام العالمية
END:VEVENT
END:VCALENDAR