BEGIN:VCALENDAR
VERSION:2.0
PRODID:-//NCSS - ECPv6.5.1//NONSGML v1.0//EN
CALSCALE:GREGORIAN
METHOD:PUBLISH
X-ORIGINAL-URL:https://stage.ncss.gov.sa
X-WR-CALDESC:Events for NCSS
REFRESH-INTERVAL;VALUE=DURATION:PT1H
X-Robots-Tag:noindex
X-PUBLISHED-TTL:PT1H
BEGIN:VTIMEZONE
TZID:UTC
BEGIN:STANDARD
TZOFFSETFROM:+0000
TZOFFSETTO:+0000
TZNAME:UTC
DTSTART:20220101T000000
END:STANDARD
END:VTIMEZONE
BEGIN:VEVENT
DTSTART;VALUE=DATE:20221002
DTEND;VALUE=DATE:20221003
DTSTAMP:20260424T072454
CREATED:20220216T100439Z
LAST-MODIFIED:20220216T114719Z
UID:2304-1664668800-1664755199@stage.ncss.gov.sa
SUMMARY:اليوم الدولي للعنف
DESCRIPTION:يُحتفل باليوم الدولي للعنف في 2 تشرين الأول/أكتوبر من كل عام،   وذلك وفقاً لقرار الجمعية العامة 61/271 في 15 حزيران/يونيو 2007، الذي يدعو إلى نشر رسالة اللاعنف، بما في ذلك عن طريق التعليم  وتوعية الجمهور والترغيب “في تأمين ثقافة السلام والتسامح والتفاهم واللاعنف”. \n  \n 
URL:https://stage.ncss.gov.sa/event/%d8%a7%d9%84%d9%8a%d9%88%d9%85-%d8%a7%d9%84%d8%af%d9%88%d9%84%d9%8a-%d9%84%d9%84%d8%b9%d9%86%d9%81/
CATEGORIES:الأيام العالمية
END:VEVENT
END:VCALENDAR