BEGIN:VCALENDAR
VERSION:2.0
PRODID:-//NCSS - ECPv6.5.1//NONSGML v1.0//EN
CALSCALE:GREGORIAN
METHOD:PUBLISH
X-WR-CALNAME:NCSS
X-ORIGINAL-URL:https://stage.ncss.gov.sa
X-WR-CALDESC:Events for NCSS
REFRESH-INTERVAL;VALUE=DURATION:PT1H
X-Robots-Tag:noindex
X-PUBLISHED-TTL:PT1H
BEGIN:VTIMEZONE
TZID:UTC
BEGIN:STANDARD
TZOFFSETFROM:+0000
TZOFFSETTO:+0000
TZNAME:UTC
DTSTART:20220101T000000
END:STANDARD
END:VTIMEZONE
BEGIN:VEVENT
DTSTART;VALUE=DATE:20220905
DTEND;VALUE=DATE:20220906
DTSTAMP:20260425T172732
CREATED:20220216T094708Z
LAST-MODIFIED:20220216T094708Z
UID:2294-1662336000-1662422399@stage.ncss.gov.sa
SUMMARY:اليوم الدولي للعمل الخيري
DESCRIPTION:حددت للأمم المتحدة 5 من سبتمبر يوماً دوليا للعمل الخيري وذلك من أجل للتوعية والتغلب على الفقر، وتحفيز الناس والمنظمات غير الحكومية وأصحاب المصلحة المشتركة في جميع أنحاء العالم لمساعدة الآخرين من خلال التطوع والأنشطة الخيرية، و لتعزيز الأواصر الاجتماعية والإسهام في خلق مجتمعات أكثر شمولاً ومرونة. \nتعزز المملكة مع احتفاء العالم باليوم العالمي للعمل الخيري منظومة القيم الاجتماعية والإنسانية من خلال عدة مبادرات منها إصدار مجلس الوزراء حديثًا قراره بالموافقة على تنظيم المركز الوطني لتنمية القطاع غير الربحي، وذلك كون العمل الخيري يعد ركناً مهماً من أركان الحياة وتحقيق مبادئ التكافل الاجتماعي بين أبناء المجتمع، إلى جانب إسهامه في صناعة الأمن الاجتماعي والاقتصادي وتقوية النسيج المجتمعي. \n  \nتاريخ الفعالية : ٥ سبتمبر
URL:https://stage.ncss.gov.sa/event/%d8%a7%d9%84%d9%8a%d9%88%d9%85-%d8%a7%d9%84%d8%af%d9%88%d9%84%d9%8a-%d9%84%d9%84%d8%b9%d9%85%d9%84-%d8%a7%d9%84%d8%ae%d9%8a%d8%b1%d9%8a/
CATEGORIES:الأيام العالمية
END:VEVENT
END:VCALENDAR