BEGIN:VCALENDAR
VERSION:2.0
PRODID:-//NCSS - ECPv6.5.1//NONSGML v1.0//EN
CALSCALE:GREGORIAN
METHOD:PUBLISH
X-ORIGINAL-URL:https://stage.ncss.gov.sa
X-WR-CALDESC:Events for NCSS
REFRESH-INTERVAL;VALUE=DURATION:PT1H
X-Robots-Tag:noindex
X-PUBLISHED-TTL:PT1H
BEGIN:VTIMEZONE
TZID:UTC
BEGIN:STANDARD
TZOFFSETFROM:+0000
TZOFFSETTO:+0000
TZNAME:UTC
DTSTART:20220101T000000
END:STANDARD
END:VTIMEZONE
BEGIN:VEVENT
DTSTART;VALUE=DATE:20220819
DTEND;VALUE=DATE:20220820
DTSTAMP:20260425T154551
CREATED:20220216T094451Z
LAST-MODIFIED:20220216T094508Z
UID:2292-1660867200-1660953599@stage.ncss.gov.sa
SUMMARY:اليوم العالمي للعمل الإنساني
DESCRIPTION:اتخذت الجمعية العامة قرار في ١١ ديسمبر ٢٠٠٨ ، حيث  تؤكد على أهمية  تقديم المساعدة الإنسانية وتقديم المعونة في كل مكان. \nتعرف المملكة العربية السعودية بكرم شعبها وحكومتها، ودعمها الخالص لتقديم المساعدات الإنسانية، وتفانيها في تقديم المساعدات الإغاثية عند الحاجة.
URL:https://stage.ncss.gov.sa/event/%d8%a7%d9%84%d9%8a%d9%88%d9%85-%d8%a7%d9%84%d8%b9%d8%a7%d9%84%d9%85%d9%8a-%d9%84%d9%84%d8%b9%d9%85%d9%84-%d8%a7%d9%84%d8%a5%d9%86%d8%b3%d8%a7%d9%86%d9%8a/
CATEGORIES:الأيام العالمية
END:VEVENT
END:VCALENDAR