BEGIN:VCALENDAR
VERSION:2.0
PRODID:-//NCSS - ECPv6.5.1//NONSGML v1.0//EN
CALSCALE:GREGORIAN
METHOD:PUBLISH
X-ORIGINAL-URL:https://stage.ncss.gov.sa
X-WR-CALDESC:Events for NCSS
REFRESH-INTERVAL;VALUE=DURATION:PT1H
X-Robots-Tag:noindex
X-PUBLISHED-TTL:PT1H
BEGIN:VTIMEZONE
TZID:UTC
BEGIN:STANDARD
TZOFFSETFROM:+0000
TZOFFSETTO:+0000
TZNAME:UTC
DTSTART:20220101T000000
END:STANDARD
END:VTIMEZONE
BEGIN:VEVENT
DTSTART;TZID=UTC:20220711T080000
DTEND;TZID=UTC:20220711T170000
DTSTAMP:20260425T151946
CREATED:20220216T093114Z
LAST-MODIFIED:20220216T093114Z
UID:2282-1657526400-1657558800@stage.ncss.gov.sa
SUMMARY:اليوم العالمي للسكان
DESCRIPTION:أعلن مجلس إدارة برنامج الأمم المتحدة الإنمائي عن مناسبة اليوم العالمي للسكان في عام 1989، بسبب وصول عدد سكان العالم إلى خمسة مليارات في 11 يوليو 1987. \n  \nوقررت الجمعية العامة ، بموجب قرارها المؤرخ في ديسمبر 1990، مواصلة الاحتفال بتلك المناسبة بما يعزز الوعي بقضايا السكان وعلاقتهم بالبيئة والتنمية. \n 
URL:https://stage.ncss.gov.sa/event/%d8%a7%d9%84%d9%8a%d9%88%d9%85-%d8%a7%d9%84%d8%b9%d8%a7%d9%84%d9%85%d9%8a-%d9%84%d9%84%d8%b3%d9%83%d8%a7%d9%86/
CATEGORIES:الأيام العالمية
END:VEVENT
END:VCALENDAR