BEGIN:VCALENDAR
VERSION:2.0
PRODID:-//NCSS - ECPv6.5.1//NONSGML v1.0//EN
CALSCALE:GREGORIAN
METHOD:PUBLISH
X-ORIGINAL-URL:https://stage.ncss.gov.sa
X-WR-CALDESC:Events for NCSS
REFRESH-INTERVAL;VALUE=DURATION:PT1H
X-Robots-Tag:noindex
X-PUBLISHED-TTL:PT1H
BEGIN:VTIMEZONE
TZID:UTC
BEGIN:STANDARD
TZOFFSETFROM:+0000
TZOFFSETTO:+0000
TZNAME:UTC
DTSTART:20220101T000000
END:STANDARD
END:VTIMEZONE
BEGIN:VEVENT
DTSTART;VALUE=DATE:20221001
DTEND;VALUE=DATE:20221002
DTSTAMP:20260423T224012
CREATED:20220216T095806Z
LAST-MODIFIED:20220216T095806Z
UID:2300-1664582400-1664668799@stage.ncss.gov.sa
SUMMARY:اليوم الدولي للمسنين
DESCRIPTION:اليوم العالمي للمسنين هو أحد مناسبات الأمم المتحدة وقد تم اعتماده من الجمعية العامة للأمم المتحدة عام 1990م بحيث يكون الأول من شهر أكتوبر. وتشارك المملكة المجتمع الدولي في الاحتفاء باليوم العالمي للمسنين ايماناً بأهمية هذه المناسبة. \nوذلك لغرض لفت النظر حول فئة كبار السن من النساء والرجال وضرورة تلبية حاجاتهم، وضمان عيشهم في مجتمعاتهم بكرامة؛ حيث يعمل كبار السن على تقديم إسهامات عدّة للمجتمع من خلال العمل التطوعي ونقل الخبرات والمعرفة للأجيال الأخرى، ومساعدة ذويهم في تحمّل المسئولية المحاطة بهم ودفع عجلة التنمية. \nتاريخ الفعالية : ١ أكتوبر \nالنوع : دولي
URL:https://stage.ncss.gov.sa/event/%d8%a7%d9%84%d9%8a%d9%88%d9%85-%d8%a7%d9%84%d8%af%d9%88%d9%84%d9%8a-%d9%84%d9%84%d9%85%d8%b3%d9%86%d9%8a%d9%86/
CATEGORIES:الأيام العالمية
END:VEVENT
BEGIN:VEVENT
DTSTART;VALUE=DATE:20221001
DTEND;VALUE=DATE:20221002
DTSTAMP:20260423T224012
CREATED:20220216T100950Z
LAST-MODIFIED:20220216T114624Z
UID:2308-1664582400-1664668799@stage.ncss.gov.sa
SUMMARY:اليوم العالمي للعصاء البيضاء للمكفوفين
DESCRIPTION:يهدف هذا اليوم إلى تشجيع المكفوفين على استخدام العصا البيضاء كوسيلة للتحرك – والتي يحتفل يحتفل بمرور 100 عام على ظهورها كما يهدف إلى نشر الوعي المجتمعي بأهمية العصا البيضاء وتوعية المبصرين على التعامل معهم بالشكل الصحيح وحث الجهات المعنية على القيام بدورها تجاه سير الكفيف وتحركه في الطريق العام.
URL:https://stage.ncss.gov.sa/event/%d8%a7%d9%84%d9%8a%d9%88%d9%85-%d8%a7%d9%84%d8%b9%d8%a7%d9%84%d9%85%d9%8a-%d9%84%d9%84%d8%b9%d8%b5%d8%a7%d8%a1-%d8%a7%d9%84%d8%a8%d9%8a%d8%b6%d8%a7%d8%a1-%d9%84%d9%84%d9%85%d9%83%d9%81%d9%88%d9%81/
CATEGORIES:الأيام العالمية
END:VEVENT
BEGIN:VEVENT
DTSTART;VALUE=DATE:20221002
DTEND;VALUE=DATE:20221003
DTSTAMP:20260423T224012
CREATED:20220216T100439Z
LAST-MODIFIED:20220216T114719Z
UID:2304-1664668800-1664755199@stage.ncss.gov.sa
SUMMARY:اليوم الدولي للعنف
DESCRIPTION:يُحتفل باليوم الدولي للعنف في 2 تشرين الأول/أكتوبر من كل عام،   وذلك وفقاً لقرار الجمعية العامة 61/271 في 15 حزيران/يونيو 2007، الذي يدعو إلى نشر رسالة اللاعنف، بما في ذلك عن طريق التعليم  وتوعية الجمهور والترغيب “في تأمين ثقافة السلام والتسامح والتفاهم واللاعنف”. \n  \n 
URL:https://stage.ncss.gov.sa/event/%d8%a7%d9%84%d9%8a%d9%88%d9%85-%d8%a7%d9%84%d8%af%d9%88%d9%84%d9%8a-%d9%84%d9%84%d8%b9%d9%86%d9%81/
CATEGORIES:الأيام العالمية
END:VEVENT
BEGIN:VEVENT
DTSTART;VALUE=DATE:20221011
DTEND;VALUE=DATE:20221012
DTSTAMP:20260423T224012
CREATED:20220216T100726Z
LAST-MODIFIED:20220216T114809Z
UID:2306-1665446400-1665532799@stage.ncss.gov.sa
SUMMARY:اليوم العالمي للطفولة
DESCRIPTION:تم تحديد اليوم العالمي للطفل لأول مرة عام 1954م، ويتم الاحتفال به يوم 20 نوفمبر من كل عام؛ لتعزيز التعاون الدولي والتوعية بين الأطفال في جميع أنحاء العالم، وتحسين رفاهية الأطفال. \nويعد يوم 20 نوفمبر تاريخًا مهمًا؛ حيث تبنت الجمعية العمومية للأمم المتحدة إعلان حقوق الطفل عام 1959م، ووُقعت وثيقة حقوق الطفل عام 1989م. \n  \nقامت المملكة  بجهود كبيرة  لتقديم الرعاية الكاملة للطفل، وتمكينه من حقوقه، وتعزيز قدراته ومهاراته وفق رؤية المملكة 2030، وتوفير وسائل رعاية صحية فعالة بما في ذلك التطعيمات، والصحة المدرسية، والمراكز الصحية المتخصصة بأمراض الأطفال، وسن القوانين الصارمة لضمان سلامة الأطفال، والتنمية ورعاية الطفولة المبكرة، والتعليم، والحماية من محتوى الإنترنت. \n  \n 
URL:https://stage.ncss.gov.sa/event/%d8%a7%d9%84%d9%8a%d9%88%d9%85-%d8%a7%d9%84%d8%b9%d8%a7%d9%84%d9%85%d9%8a-%d9%84%d9%84%d8%b7%d9%81%d9%88%d9%84%d8%a9/
CATEGORIES:الأيام العالمية
END:VEVENT
BEGIN:VEVENT
DTSTART;VALUE=DATE:20221017
DTEND;VALUE=DATE:20221018
DTSTAMP:20260423T224012
CREATED:20220216T102324Z
LAST-MODIFIED:20220216T114851Z
UID:2310-1665964800-1666051199@stage.ncss.gov.sa
SUMMARY:اليوم الدولي للقضاء على الفقر
DESCRIPTION:يعاني الأشخاص الذين يعيشون في فقر العديد من أشكال الحرمان المترابطة \nو المتعاضدة التي تمنعهم من إعمال حقوقهم وتديم فقرهم، بما فيها: \n\nظروف العمل الخطيرة.\nوغياب الإسكان المأمون.\nوغياب الطعام المغذي.\nووجود تفاوت في إتاحة الوصول إلى العدالة.\n\n  \nوضعت المملكة أهداف عالمية لعام 2030 و بذلت جهود في تحقيقها، والتي تشمل: القضاء على الفقر، والقضاء على الجوع، وحياة كريمة وصحة جيدة، والتعليم الجيد، والمساواة بين الجنسين، ونقاء المياه والنظافة العامة، وطاقة نظيفة بأسعار معقولة، وتوفير فرص عمل لائقة ونمو الاقتصاد، والصناعة والابتكار والبنية التحتية، والحد من أوجه عدم المساواة، والمدن والمجتمعات المستدامة. كما يحتوي هذا القسم على لمحة حول الإنتاج والاستهلاك المسؤول، والحفاظ على المناخ، والحياة البحرية، والحياة البرية، والسلام والعدالة والمؤسسات القوية، والشراكات لتحقيق هذه الأهداف. \nأهم البرامج والمبادرات التي تهدف إلى معالجة مشكلة الفقر والقضاء عليه \n\nمبادرات وزارة الإسكان الهادفة إلى مساعدة المواطنين على إيجاد مسكنهم الخاص.\nمبادرة حساب المواطن المنشأة لحماية الأسر السعودية من الأثر المباشر و غير المباشر المتوقع من الإصلاحات الاقتصادية المختلفة، والتي قد تتسبب بعبء إضافي على بعض فئات المجتمع.\nبرنامج الضمان الاجتماعي لدعم الأسر غير المعولة واليتامى والعاجزين عن العمل ومن تنطبق عليهم شروط اللائحة.\nالجمعيات الخيرية بإشراف وزارة الموارد البشرية و التنمية الاجتماعية\nذوي الاحتياجات الخاصة: تولي المملكة العربية السعودية اهتماماً خاصاً بذوي الاحتياجات الخاصة و قد تضمنت رؤية المملكة 2030 هدفا استراتيجياً يعنى بتمكين ذوي الاحتياجات الخاصة من الحصول على فرص عمل مناسبة وتعليم يضمن اســتقلاليتهم واندماجهم بوصفهم عناصر فاعلة في المجتمع.\nدعم الحكومة السعودية للدول الأشد فقراً والدول النامية و المنظمات الدولية المعنية بمكافحة الفقر على المستوى العالمي:\nمشاريع العون والإغاثة و المساعدات الخارجية المقدمة من مركز الملك سلمان للإغاثة والأعمال الإنسانية\nوكالة الأمم المتحدة لغوث وتشغيل اللاجئين الفلسطينيين ” الأونوروا “.\nبرنامج الأمم المتحدة الإنمائي ومنظمة الأمم المتحدة للتنمية الصناعية.\nبرنامج الخليج العربي لدعم منظمات الأمم المتحدة الإنمائية.\nصندوق الأمم المتحدة للطفولة.\n\n  \n 
URL:https://stage.ncss.gov.sa/event/%d8%a7%d9%84%d9%8a%d9%88%d9%85-%d8%a7%d9%84%d8%af%d9%88%d9%84%d9%8a-%d9%84%d9%84%d9%82%d8%b6%d8%a7%d8%a1-%d8%b9%d9%84%d9%89-%d8%a7%d9%84%d9%81%d9%82%d8%b1/
CATEGORIES:الأيام العالمية
END:VEVENT
BEGIN:VEVENT
DTSTART;VALUE=DATE:20221024
DTEND;VALUE=DATE:20221025
DTSTAMP:20260423T224012
CREATED:20220216T104851Z
LAST-MODIFIED:20220216T114926Z
UID:2312-1666569600-1666655999@stage.ncss.gov.sa
SUMMARY:اليوم العالمي للإعلام الإنمائي
DESCRIPTION:حددت الجمعية العامة للأمم المتحدة ، في عام 1972، يومًا عالميًا للإعلام الإنمائي، يراد منه لفت انتباه الرأي العام العالمي لمشاكل التنمية والحاجة إلى تعزيز التعاون الدولي من أجل حلها [القرار 3038 (الدورة 27)] . \n  \nوقررت الجمعية العامة أن يتوافق تاريخ هذا اليوم العالمي من حيث المبدأ مع يوم الأمم المتحدة في 24 تشرين الأول/أكتوبر، وهو التاريخ الذي اعتمدت فيه، في عام 1970، الإستراتيجية الإنمائية الدولية الثانية لعقد الأمم المتحدة الإنمائي. \nورأت الجمعية العامة أن من شأن تحسين نشر المعلومات وتعبئة الرأي العام، ولا سيما بين الشباب، أن يؤدي إلى مزيد من الوعي بمشاكل التنمية، وبالتالي، تعزيز الجهود في مجال التعاون الدولي من أجل التنمية. \n  \n 
URL:https://stage.ncss.gov.sa/event/%d8%a7%d9%84%d9%8a%d9%88%d9%85-%d8%a7%d9%84%d8%b9%d8%a7%d9%84%d9%85%d9%8a-%d9%84%d9%84%d8%a5%d8%b9%d9%84%d8%a7%d9%85-%d8%a7%d9%84%d8%a5%d9%86%d9%85%d8%a7%d8%a6%d9%8a/
CATEGORIES:الأيام العالمية
END:VEVENT
END:VCALENDAR