BEGIN:VCALENDAR
VERSION:2.0
PRODID:-//NCSS - ECPv6.5.1//NONSGML v1.0//EN
CALSCALE:GREGORIAN
METHOD:PUBLISH
X-WR-CALNAME:NCSS
X-ORIGINAL-URL:https://stage.ncss.gov.sa
X-WR-CALDESC:Events for NCSS
REFRESH-INTERVAL;VALUE=DURATION:PT1H
X-Robots-Tag:noindex
X-PUBLISHED-TTL:PT1H
BEGIN:VTIMEZONE
TZID:UTC
BEGIN:STANDARD
TZOFFSETFROM:+0000
TZOFFSETTO:+0000
TZNAME:UTC
DTSTART:20220101T000000
END:STANDARD
END:VTIMEZONE
BEGIN:VEVENT
DTSTART;TZID=UTC:20220711T080000
DTEND;TZID=UTC:20220711T170000
DTSTAMP:20260425T151803
CREATED:20220216T093114Z
LAST-MODIFIED:20220216T093114Z
UID:2282-1657526400-1657558800@stage.ncss.gov.sa
SUMMARY:اليوم العالمي للسكان
DESCRIPTION:أعلن مجلس إدارة برنامج الأمم المتحدة الإنمائي عن مناسبة اليوم العالمي للسكان في عام 1989، بسبب وصول عدد سكان العالم إلى خمسة مليارات في 11 يوليو 1987. \n  \nوقررت الجمعية العامة ، بموجب قرارها المؤرخ في ديسمبر 1990، مواصلة الاحتفال بتلك المناسبة بما يعزز الوعي بقضايا السكان وعلاقتهم بالبيئة والتنمية. \n 
URL:https://stage.ncss.gov.sa/event/%d8%a7%d9%84%d9%8a%d9%88%d9%85-%d8%a7%d9%84%d8%b9%d8%a7%d9%84%d9%85%d9%8a-%d9%84%d9%84%d8%b3%d9%83%d8%a7%d9%86/
CATEGORIES:الأيام العالمية
END:VEVENT
BEGIN:VEVENT
DTSTART;TZID=UTC:20220715T080000
DTEND;TZID=UTC:20220715T170000
DTSTAMP:20260425T151803
CREATED:20220216T093344Z
LAST-MODIFIED:20220216T093503Z
UID:2284-1657872000-1657904400@stage.ncss.gov.sa
SUMMARY:اليوم العالمي لمهارات الشباب
DESCRIPTION:قررت الجمعية العامة إعلان يوم ١٥  يوليو يومًا عالميًا لمهارات الشباب، حيث تدعو جميع الدول الأعضاء ومنظمة الأمم المتحدة وسائر المنظمات الدولية والإقليمية واﻟﻤﺠتمع المدني إلى الاحتفال باليوم العالمي لمهارات الشباب بالشكل اللائق، وفقًا للأولويات الوطنية، وتثقيف وتنظيم الحملات والتطوع وتنفيذ أنشطة للتوعية العامة . \nانطلاقًا من رؤية المملكة 2030 ورهانها المستمر على الشباب السعودي الواعد باعتبارهم من أهم وأكبر الفئات الأساسية فيها، أطلقت الجهات العامة الكثير من البرامج والمشاريع لتمكين الشباب ضمن برامج ومشاريع مبادرات التحول الوطني، بهدف زيادة مشاركة الشباب اجتماعيًا وفي سوق العمل. \n 
URL:https://stage.ncss.gov.sa/event/%d8%a7%d9%84%d9%8a%d9%88%d9%85-%d8%a7%d9%84%d8%b9%d8%a7%d9%84%d9%85%d9%8a-%d9%84%d9%85%d9%87%d8%a7%d8%b1%d8%a7%d8%aa-%d8%a7%d9%84%d8%b4%d8%a8%d8%a7%d8%a8/
CATEGORIES:الأيام العالمية
END:VEVENT
BEGIN:VEVENT
DTSTART;TZID=UTC:20220730T080000
DTEND;TZID=UTC:20220730T170000
DTSTAMP:20260425T151803
CREATED:20220216T093659Z
LAST-MODIFIED:20220216T093746Z
UID:2287-1659168000-1659200400@stage.ncss.gov.sa
SUMMARY:اليوم العالمي لمكافحة الاتجار بالأشخاص
DESCRIPTION:في عام 2010 ، اعتمدت الجمعية العامة خطة العمل العالمية لمكافحة الاتجار بالأشخاص، وحثت الحكومات في جميع أنحاء العالم على اتخاذ تدابير منسقة ومتسقة للتصدي لهذا البلاء، وتدعو الخطة إلى دمج مكافحة الاتجار بالبشر في برامج الأمم المتحدة  بما يعزز التنمية والأمن في جميع أنحاء العالم. \n  \nقامت المملكة بوضع نظام مكافحة جرائم الاتجار بالأشخاص في سنة 2009  يتضمن العبارات والألفاظ الواردة بالنظام، وقد تشكل لجنة لمكافحة جرائم الاتجار بالأشخاص في هيئة حقوق الإنسان من ممثلين من: وزارة الداخلية ، ووزارة الخارجية ووزارة العدل ، ووزارة الشؤون الاجتماعية ، ووزارة العمل ، ووزارة الثقافة والإعلام ، وهيئة حقوق الإنسان .
URL:https://stage.ncss.gov.sa/event/%d8%a7%d9%84%d9%8a%d9%88%d9%85-%d8%a7%d9%84%d8%b9%d8%a7%d9%84%d9%85%d9%8a-%d9%84%d9%85%d9%83%d8%a7%d9%81%d8%ad%d8%a9-%d8%a7%d9%84%d8%a7%d8%aa%d8%ac%d8%a7%d8%b1-%d8%a8%d8%a7%d9%84%d8%a3%d8%b4%d8%ae/
CATEGORIES:الأيام العالمية
END:VEVENT
END:VCALENDAR